BEGIN:VCALENDAR
VERSION:2.0
PRODID:-//Rowing Club Lausanne - ECPv6.15.20//NONSGML v1.0//EN
CALSCALE:GREGORIAN
METHOD:PUBLISH
X-WR-CALNAME:Rowing Club Lausanne
X-ORIGINAL-URL:https://www.rclausanne.com
X-WR-CALDESC:Évènements pour Rowing Club Lausanne
REFRESH-INTERVAL;VALUE=DURATION:PT1H
X-Robots-Tag:noindex
X-PUBLISHED-TTL:PT1H
BEGIN:VTIMEZONE
TZID:Europe/Zurich
BEGIN:DAYLIGHT
TZOFFSETFROM:+0100
TZOFFSETTO:+0200
TZNAME:CEST
DTSTART:20250330T010000
END:DAYLIGHT
BEGIN:STANDARD
TZOFFSETFROM:+0200
TZOFFSETTO:+0100
TZNAME:CET
DTSTART:20251026T010000
END:STANDARD
BEGIN:DAYLIGHT
TZOFFSETFROM:+0100
TZOFFSETTO:+0200
TZNAME:CEST
DTSTART:20260329T010000
END:DAYLIGHT
BEGIN:STANDARD
TZOFFSETFROM:+0200
TZOFFSETTO:+0100
TZNAME:CET
DTSTART:20261025T010000
END:STANDARD
BEGIN:DAYLIGHT
TZOFFSETFROM:+0100
TZOFFSETTO:+0200
TZNAME:CEST
DTSTART:20270328T010000
END:DAYLIGHT
BEGIN:STANDARD
TZOFFSETFROM:+0200
TZOFFSETTO:+0100
TZNAME:CET
DTSTART:20271031T010000
END:STANDARD
END:VTIMEZONE
BEGIN:VEVENT
DTSTART;VALUE=DATE:20260515
DTEND;VALUE=DATE:20260518
DTSTAMP:20260421T144209
CREATED:20251208T131609Z
LAST-MODIFIED:20260215T163712Z
UID:7698-1778803200-1779062399@www.rclausanne.com
SUMMARY:Visite du Club d'aviron de Strasbourg
DESCRIPTION:Invitation du club d’aviron de Strasbourg.\nUne quinzaine de nos amis français viendront en visite au RCL et rameront à partir du vendredi après-midi.\nSi vous pouvez héberger une ou deux personnes\, prière de le signaler au plus vite sur loisirs@rclausanne.com\nEn retour\, le RCL ira ramer à Strasbourg les 11-12 et 13 septembre et participera à la traversée de la ville en aviron réunissant de nombreux clubs français.\nInscriptions jusqu’au 20 avril. \nInscription
URL:https://www.rclausanne.com/evenement/visite-du-club-daviron-de-strasbourg/
CATEGORIES:Loisirs
END:VEVENT
BEGIN:VEVENT
DTSTART;TZID=Europe/Zurich:20260516T000000
DTEND;TZID=Europe/Zurich:20260517T000000
DTSTAMP:20260421T144209
CREATED:20251211T173016Z
LAST-MODIFIED:20251211T173056Z
UID:7752-1778889600-1778976000@www.rclausanne.com
SUMMARY:SWISS ROWING randonnée Thun / Interlaken
DESCRIPTION:SWISS ROWING Wanderfahrt 2026 \n***** Complet. ***** \nDocumentation
URL:https://www.rclausanne.com/evenement/swiss-rowing-randonnee-thun-interlaken/
END:VEVENT
BEGIN:VEVENT
DTSTART;VALUE=DATE:20260523
DTEND;VALUE=DATE:20260526
DTSTAMP:20260421T144209
CREATED:20251208T131639Z
LAST-MODIFIED:20251211T204118Z
UID:7699-1779494400-1779753599@www.rclausanne.com
SUMMARY:Lac de Vouglans
DESCRIPTION:Lac de Vouglans ( Jura français)\nSéjour en chambre doubles au centre national français d’aviron de Bellecin et navigation sur le lac de barrage de Vouglans.\nNous transporterons nos propres bateaux.\nInscriptions jusqu’au 15 mars
URL:https://www.rclausanne.com/evenement/lac-de-vouglans/
CATEGORIES:Loisirs
ATTACH;FMTTYPE=image/jpeg:https://www.rclausanne.com/wp-content/uploads/2025/12/vouglans.jpg
END:VEVENT
BEGIN:VEVENT
DTSTART;VALUE=DATE:20260531
DTEND;VALUE=DATE:20260601
DTSTAMP:20260421T144209
CREATED:20251208T131639Z
LAST-MODIFIED:20251211T170809Z
UID:7700-1780185600-1780271999@www.rclausanne.com
SUMMARY:Buchillon avec Club Aviron Yverdon
DESCRIPTION:Accueil du club d’aviron d’Yverdon à 10 h lors de notre sortie accompagnée.\nPic nic sur la plage de Buchillon.\nPas d’inscription
URL:https://www.rclausanne.com/evenement/buchillon-avec-club-aviron-yverdon/
CATEGORIES:Loisirs
END:VEVENT
BEGIN:VEVENT
DTSTART;VALUE=DATE:20260604
DTEND;VALUE=DATE:20260609
DTSTAMP:20260421T144209
CREATED:20251208T131639Z
LAST-MODIFIED:20251227T192458Z
UID:7701-1780531200-1780963199@www.rclausanne.com
SUMMARY:Piémont - Lago d'Orta
DESCRIPTION:Un séjour de 4 jours sur le lac d’Orta dans le Piémont. \nNous avons le plaisir de proposer aux membres du club un week-end d’aviron et de découverte touristique au Lago d’Orta\, l’un des plus beaux lacs du Piémont. \nAviron dans un cadre exceptionnel\nLes sorties d’aviron auront lieu sur le Lago d’Orta\, au départ du Circolo Canottieri Lago d’Orta\, qui met à disposition différents types de bateaux : \n\nQuatre de couple (en partie avec barreur)\nDoubles\nSkiffs\nDeux bateaux C-Gig\, généralement disponibles\nSelon la date choisie\, la disponibilité exacte des bateaux sera confirmée avec le club local.\n\nHébergement\nL’hébergement est prévu dans une maison de vacances à Quarna Sotto\, offrant un cadre convivial et authentique pour le week-end. \nDécouverte et tourisme\nEn complément de l’aviron\, le programme prévoit également : \n\nDes excursions touristiques\nLa découverte des environs du lac et des villages typiques\n\nProgramme flexible \nLe programme proposé est indicatif et volontairement flexible. \nIl pourra être adapté en fonction des envies des participants\, des conditions météorologiques et des contraintes logistiques. \nCette activité s’adresse aux membres souhaitant allier sport\, convivialité et découverte dans un cadre exceptionnel. \nInscription \nProgramme indicatif\n⚠️ Le programme ci-dessous est indicatif et flexible. \nIl pourra être adapté selon la météo\, les envies des participants et les contraintes logistiques. \n\nJeudi – Arrivée\n\nTrajet jusqu’à Quarna Sotto (Piémont)\n⏱️ Temps de trajet indicatif : env. 3h30\nAchats alimentaires pour les participants arrivant plus tôt\nApéritif de bienvenue\nSoirée grillades au feu de bois (selon conditions météo)\n\n\nVendredi – Aviron & culture\n\nPetit-déjeuner à la maison\nSortie d’aviron jusqu’à la Cascata del Qualba\n\nPause au pied de la cascade\nPique-nique de midi\n\n\nVisite de la vieille ville d’Orta San Giulio\nTraversée en bateau vers l’île du monastère (Isola San Giulio)\nRetour à Quarna Sotto\nTemps libre :\n\nDétente à la maison\nActivités optionnelles : coupe de bois\, tennis de table\, badminton\n\n\nDîner au restaurant Mazzocone\, Quarna Sopra\n\n\nSamedi – Aviron & panorama\n\nPetit-déjeuner à la maison\nSortie d’aviron jusqu’au restaurant Venenzio\n\nDéjeuner sur place\nPelouse privée et possibilité de baignade\n\n\nRetour à Quarna\nVisite du point de vue Belvedere à Quarna Sopra\n\n🌄 Vue panoramique sur le Lago d’Orta \n\nPromenade dans Quarna Sotto\, le village de la musique\n\n🎷 Lieu de fabrication de saxophones \n\nDîner à la maison : grande soirée spaghetti\n\n\nDimanche – Nature & randonnée\n\nSortie d’aviron jusqu’au Lido di Gozzano\nDéjeuner\n\nAccès à la plage et au lido\n\n\nRetour via Quarna Sotto et montée à l’Alpe Camasca\nRandonnée jusqu’au Monte Mazzoccone\n\nEnviron 40 min de marche par trajet\nVue exceptionnelle sur :\n\nLago d’Orta\nLago di Mergozzo\nLago Maggiore\n\n\n\n\nDîner au restaurant Nuova Posta\, Quarna Sotto\n\n\nLundi – Clôture du séjour\n\nPetit-déjeuner et préparation du départ\nSortie d’aviron autour de l’île du monastère d’Orta San Giulio\nDéjeuner au restaurant Canottieri à Omegna\nAu revoir et retour en Suisse\n\n\nActivités alternatives (selon envies & météo)\n\nVisite du Factory Outlet Alessi à Omegna\nExcursion à Stresa (Lago Maggiore) :\n\nVisite des îles Isola Bella et Isola dei Pescatori en bateau\n\n\nExcursion en voiture à l’église panoramique Madonna del Sasso\nMusée du saxophone à Quarna Sotto (idéal par mauvais temps)\n\n\nMarchés locaux\n\nJeudi matin : Omegna\nVendredi matin : Borgomanero\nSamedi matin : Verbania
URL:https://www.rclausanne.com/evenement/piemont/
LOCATION:Lago d’Orta
CATEGORIES:Loisirs
ATTACH;FMTTYPE=image/jpeg:https://www.rclausanne.com/wp-content/uploads/2025/12/lago-dorta.jpg
END:VEVENT
BEGIN:VEVENT
DTSTART;VALUE=DATE:20260613
DTEND;VALUE=DATE:20260615
DTSTAMP:20260421T144209
CREATED:20251208T131654Z
LAST-MODIFIED:20251211T203501Z
UID:7702-1781308800-1781481599@www.rclausanne.com
SUMMARY:Gorges de la Loire
DESCRIPTION:Nous allons de nouveau participer à cette balade française sur un week-end.\nSamedi après-midi 15km et dimanche au minimum 22 km au maximum 30km.\nPrix 180 euros pour le week-end comprenant l’inscription à la balade\, 3 repas\, la nuit à Aurec-Etappe (dans chambre à 4 lits avec lavabo\, douches et toilettes sur l’étage) et la location des bateaux sur 2 jours.\nIl faut prendre un pique-nique pour samedi midi.\nDépart de Vidy samedi matin à 8h00.\nSi vous voulez plus d’information\, site www.avironstephanois.fr onglet randonnée\, Gorges de la Loire et vous pouvez voir des photos des éditions antérieures.\nLe cadre est magnifique.\nPour pouvoir réserver les bateaux assez tôt\, inscription jusqu’au 10 décembre 2025.\n 
URL:https://www.rclausanne.com/evenement/gorges-de-la-loire/
CATEGORIES:Loisirs
ATTACH;FMTTYPE=image/png:https://www.rclausanne.com/wp-content/uploads/2025/12/loire.png
END:VEVENT
BEGIN:VEVENT
DTSTART;VALUE=DATE:20260711
DTEND;VALUE=DATE:20260713
DTSTAMP:20260421T144209
CREATED:20251208T131815Z
LAST-MODIFIED:20251211T202930Z
UID:7704-1783728000-1783900799@www.rclausanne.com
SUMMARY:WE à Thoune
DESCRIPTION:Week end à Thoune proposé par le Ruderclub Thun.\nDéplacement en train. 15 places disponibles .\nInscriptions jusqu’au 30 avril \n 
URL:https://www.rclausanne.com/evenement/we-a-thoune/
CATEGORIES:Loisirs
ATTACH;FMTTYPE=image/jpeg:https://www.rclausanne.com/wp-content/uploads/2025/12/ruderclub-thun.jpg
END:VEVENT
BEGIN:VEVENT
DTSTART;VALUE=DATE:20260803
DTEND;VALUE=DATE:20260811
DTSTAMP:20260421T144209
CREATED:20251208T132009Z
LAST-MODIFIED:20251211T202703Z
UID:7705-1785715200-1786406399@www.rclausanne.com
SUMMARY:Semaine en Pologne
DESCRIPTION:Semaine en Pologne.\nLes inscriptions sont closes\, mais des désistements sont toujours possibles : une liste d’attente est ouverte.\nS’annoncer sur loisirs@rclausanne.com
URL:https://www.rclausanne.com/evenement/semaine-en-pologne/
CATEGORIES:Loisirs
ATTACH;FMTTYPE=image/jpeg:https://www.rclausanne.com/wp-content/uploads/2025/12/pologne.jpg
END:VEVENT
BEGIN:VEVENT
DTSTART;VALUE=DATE:20260821
DTEND;VALUE=DATE:20260822
DTSTAMP:20260421T144209
CREATED:20251208T132024Z
LAST-MODIFIED:20251211T202554Z
UID:7706-1787270400-1787356799@www.rclausanne.com
SUMMARY:Vallée de Joux
DESCRIPTION:sortie d’une journée à la Vallée de Joux\, spécialement destinée aux nouveaux rameurs.\nMais nous prendrons aussi des bateaux fins pour les rameurs plus expérimentés.\nSortie de 17km et pic nic au retour sur la plage de l’Abbaye\nInscriptions jusqu’au 15 août \n 
URL:https://www.rclausanne.com/evenement/vallee-de-joux-2/
CATEGORIES:Loisirs
ATTACH;FMTTYPE=image/jpeg:https://www.rclausanne.com/wp-content/uploads/2024/12/Vallee_de_joux.jpg
END:VEVENT
BEGIN:VEVENT
DTSTART;VALUE=DATE:20260822
DTEND;VALUE=DATE:20260823
DTSTAMP:20260421T144209
CREATED:20251208T132024Z
LAST-MODIFIED:20251211T202436Z
UID:7707-1787356800-1787443199@www.rclausanne.com
SUMMARY:Vallée de Joux
DESCRIPTION:sortie d’une journée à la Vallée de Joux\, spécialement destinée aux nouveaux rameurs.\nMais nous prendrons aussi des bateaux fins pour les rameurs plus expérimentés.\nSortie de 17km et pic nic au retour sur la plage de l’Abbaye\nInscriptions jusqu’au 15 août \n 
URL:https://www.rclausanne.com/evenement/vallee-de-joux-3/
CATEGORIES:Loisirs
ATTACH;FMTTYPE=image/jpeg:https://www.rclausanne.com/wp-content/uploads/2024/12/Vallee_de_joux.jpg
END:VEVENT
BEGIN:VEVENT
DTSTART;TZID=Europe/Zurich:20260905T183000
DTEND;TZID=Europe/Zurich:20260905T230000
DTSTAMP:20260421T144209
CREATED:20251116T115452Z
LAST-MODIFIED:20251211T170428Z
UID:7358-1788633000-1788649200@www.rclausanne.com
SUMMARY:Repas de soutien
DESCRIPTION:18h30 apéro\n19h00 Baptême des nouveaux bateaux\n19h30 Repas\n22h30 danse \nInscription
URL:https://www.rclausanne.com/evenement/repas-de-soutien/
CATEGORIES:Tous
END:VEVENT
BEGIN:VEVENT
DTSTART;VALUE=DATE:20260906
DTEND;VALUE=DATE:20260907
DTSTAMP:20260421T144209
CREATED:20251208T132136Z
LAST-MODIFIED:20251211T202316Z
UID:7708-1788652800-1788739199@www.rclausanne.com
SUMMARY:Sortie à Yverdon
DESCRIPTION:Sortie à Yverdon sur les bateaux de l’UNY. Pic nic sur la plage d’Yvonand \nInscriptions jusqu’au 20 août \n 
URL:https://www.rclausanne.com/evenement/sortie-a-yverdon/
CATEGORIES:Loisirs
ATTACH;FMTTYPE=image/jpeg:https://www.rclausanne.com/wp-content/uploads/2025/12/1620px-Yverdon-les-Bains_vue_du_ciel.jpg
END:VEVENT
BEGIN:VEVENT
DTSTART;VALUE=DATE:20260912
DTEND;VALUE=DATE:20260913
DTSTAMP:20260421T144209
CREATED:20251208T132151Z
LAST-MODIFIED:20251211T202158Z
UID:7709-1789171200-1789257599@www.rclausanne.com
SUMMARY:Armada - Traversée du Léman
DESCRIPTION:L’ARMADA\, traversée du Léman organisée par la Nana et le sauvetage de Lausanne : d’Ouchy à Neuvecelle.( environ 25 km) \nInscriptions jusqu’au 25 août \n 
URL:https://www.rclausanne.com/evenement/armada-traversee-du-leman/
CATEGORIES:Loisirs
ATTACH;FMTTYPE=image/webp:https://www.rclausanne.com/wp-content/uploads/2025/12/armada.webp
END:VEVENT
BEGIN:VEVENT
DTSTART;VALUE=DATE:20260913
DTEND;VALUE=DATE:20260914
DTSTAMP:20260421T144209
CREATED:20251208T132151Z
LAST-MODIFIED:20251211T201959Z
UID:7710-1789257600-1789343999@www.rclausanne.com
SUMMARY:Traversée de Paris
DESCRIPTION:Traversée de Paris. 3 yolettes ont été réservées au club d’Evry.\nChaque participant devra se débrouiller pour le voyage et le logement.\nAttention : présence requise le samedi après-midi pour monter les bateaux. \nInscription jusqu’au 1er avril
URL:https://www.rclausanne.com/evenement/traversee-de-paris/
CATEGORIES:Loisirs
ATTACH;FMTTYPE=image/jpeg:https://www.rclausanne.com/wp-content/uploads/2023/12/paris.jpg
END:VEVENT
BEGIN:VEVENT
DTSTART;VALUE=DATE:20260918
DTEND;VALUE=DATE:20260921
DTSTAMP:20260421T144209
CREATED:20251208T132152Z
LAST-MODIFIED:20251211T201814Z
UID:7711-1789689600-1789948799@www.rclausanne.com
SUMMARY:Sortie à Strasbourg
DESCRIPTION:Invitation retour à Strasbourg.\nVoyage en train vendredi matin\, aviron l’après-midi\, samedi participation à la traversée de Strasbourg \, et dimanche sortie pilotée par nos hôtes. Logement à l’hôtel ou chez l’un des membres du club. 15 places disponibles\nInscription jusqu’au 15 avril . (Priorité sera donnée aux personnes ayant participé au week end d’accueil à Pentecôte) \n 
URL:https://www.rclausanne.com/evenement/sortie-a-strasbourg/
CATEGORIES:Loisirs
ATTACH;FMTTYPE=image/jpeg:https://www.rclausanne.com/wp-content/uploads/2025/12/Strasbourg.jpg
END:VEVENT
BEGIN:VEVENT
DTSTART;VALUE=DATE:20260919
DTEND;VALUE=DATE:20260920
DTSTAMP:20260421T144209
CREATED:20251208T132152Z
LAST-MODIFIED:20251211T201647Z
UID:7712-1789776000-1789862399@www.rclausanne.com
SUMMARY:BILAC
DESCRIPTION:Bilac\nCette course\, ouverte aux loisirs\, est un joli challenge pour celles et ceux qui veulent progresser : 36 km sur les lacs de Neuchâtel et de Bienne (avec un parcours de remplacement sur l’Aar). Des entraînements préparatoires seront mis sur pied. \nInscriptions jusqu’au 1er mars pour participer aux entraînements dont les dates seront communiquées ultérieurement
URL:https://www.rclausanne.com/evenement/bilac/
CATEGORIES:Loisirs
ATTACH;FMTTYPE=image/jpeg:https://www.rclausanne.com/wp-content/uploads/2025/12/bilac.jpg
END:VEVENT
BEGIN:VEVENT
DTSTART;VALUE=DATE:20261003
DTEND;VALUE=DATE:20261004
DTSTAMP:20260421T144209
CREATED:20251208T132352Z
LAST-MODIFIED:20251211T201331Z
UID:7713-1790985600-1791071999@www.rclausanne.com
SUMMARY:Lac de la Gruyère
DESCRIPTION:Cette sortie ouverte à tous est tout particulièrement destinée aux rameurs et rameuses débutant(e)s. Départ de Morlon\, navigation jusqu’au barrage\, apéro sur l’eau\, puis fondue sur l’ìle d’Ogoz. Prix 30 francs. Covoiturage.\nInscriptions jusqu’au 20 septembre
URL:https://www.rclausanne.com/evenement/lac-de-la-gruyere/
CATEGORIES:Loisirs
ATTACH;FMTTYPE=image/jpeg:https://www.rclausanne.com/wp-content/uploads/2025/12/Lac-gruyere.jpg
END:VEVENT
BEGIN:VEVENT
DTSTART;VALUE=DATE:20261004
DTEND;VALUE=DATE:20261005
DTSTAMP:20260421T144209
CREATED:20251208T132352Z
LAST-MODIFIED:20251211T201442Z
UID:7714-1791072000-1791158399@www.rclausanne.com
SUMMARY:Lac de la Gruyère
DESCRIPTION:Cette sortie ouverte à tous est tout particulièrement destinée aux rameurs et rameuses débutant(e)s. Départ de Morlon\, navigation jusqu’au barrage\, apéro sur l’eau\, puis fondue sur l’ìle d’Ogoz. Prix 30 francs. Covoiturage. \nInscriptions jusqu’au 20 septembre.
URL:https://www.rclausanne.com/evenement/lac-de-la-gruyere-2/
CATEGORIES:Loisirs
ATTACH;FMTTYPE=image/jpeg:https://www.rclausanne.com/wp-content/uploads/2025/12/Lac-gruyere.jpg
END:VEVENT
BEGIN:VEVENT
DTSTART;TZID=Europe/Zurich:20261031T180000
DTEND;TZID=Europe/Zurich:20261031T220000
DTSTAMP:20260421T144209
CREATED:20251116T163431Z
LAST-MODIFIED:20251208T132353Z
UID:7570-1793469600-1793484000@www.rclausanne.com
SUMMARY:Raclette d'ouverture de saison d'hiver
DESCRIPTION:16h00 Rowingienne ouverte à tous17h00 apéritif19h00 raclette servie par nos jeunes compétiteurs \n40.00 par adulte 20.00 pour juniors20.00 la bouteille
URL:https://www.rclausanne.com/evenement/raclette-douverture-de-saison-dhiver-3/
CATEGORIES:Tous
END:VEVENT
END:VCALENDAR