BEGIN:VCALENDAR
VERSION:2.0
PRODID:-//Rowing Club Lausanne - ECPv6.15.20//NONSGML v1.0//EN
CALSCALE:GREGORIAN
METHOD:PUBLISH
X-WR-CALNAME:Rowing Club Lausanne
X-ORIGINAL-URL:https://www.rclausanne.com
X-WR-CALDESC:Évènements pour Rowing Club Lausanne
REFRESH-INTERVAL;VALUE=DURATION:PT1H
X-Robots-Tag:noindex
X-PUBLISHED-TTL:PT1H
BEGIN:VTIMEZONE
TZID:Europe/Zurich
BEGIN:DAYLIGHT
TZOFFSETFROM:+0100
TZOFFSETTO:+0200
TZNAME:CEST
DTSTART:20250330T010000
END:DAYLIGHT
BEGIN:STANDARD
TZOFFSETFROM:+0200
TZOFFSETTO:+0100
TZNAME:CET
DTSTART:20251026T010000
END:STANDARD
BEGIN:DAYLIGHT
TZOFFSETFROM:+0100
TZOFFSETTO:+0200
TZNAME:CEST
DTSTART:20260329T010000
END:DAYLIGHT
BEGIN:STANDARD
TZOFFSETFROM:+0200
TZOFFSETTO:+0100
TZNAME:CET
DTSTART:20261025T010000
END:STANDARD
BEGIN:DAYLIGHT
TZOFFSETFROM:+0100
TZOFFSETTO:+0200
TZNAME:CEST
DTSTART:20270328T010000
END:DAYLIGHT
BEGIN:STANDARD
TZOFFSETFROM:+0200
TZOFFSETTO:+0100
TZNAME:CET
DTSTART:20271031T010000
END:STANDARD
END:VTIMEZONE
BEGIN:VEVENT
DTSTART;TZID=Europe/Zurich:20260905T183000
DTEND;TZID=Europe/Zurich:20260905T230000
DTSTAMP:20260422T022245
CREATED:20251116T115452Z
LAST-MODIFIED:20251211T170428Z
UID:7358-1788633000-1788649200@www.rclausanne.com
SUMMARY:Repas de soutien
DESCRIPTION:18h30 apéro\n19h00 Baptême des nouveaux bateaux\n19h30 Repas\n22h30 danse \nInscription
URL:https://www.rclausanne.com/evenement/repas-de-soutien/
CATEGORIES:Tous
END:VEVENT
END:VCALENDAR