BEGIN:VCALENDAR
VERSION:2.0
PRODID:-//Rowing Club Lausanne - ECPv6.15.20//NONSGML v1.0//EN
CALSCALE:GREGORIAN
METHOD:PUBLISH
X-ORIGINAL-URL:https://www.rclausanne.com
X-WR-CALDESC:Évènements pour Rowing Club Lausanne
REFRESH-INTERVAL;VALUE=DURATION:PT1H
X-Robots-Tag:noindex
X-PUBLISHED-TTL:PT1H
BEGIN:VTIMEZONE
TZID:Europe/Zurich
BEGIN:DAYLIGHT
TZOFFSETFROM:+0100
TZOFFSETTO:+0200
TZNAME:CEST
DTSTART:20250330T010000
END:DAYLIGHT
BEGIN:STANDARD
TZOFFSETFROM:+0200
TZOFFSETTO:+0100
TZNAME:CET
DTSTART:20251026T010000
END:STANDARD
BEGIN:DAYLIGHT
TZOFFSETFROM:+0100
TZOFFSETTO:+0200
TZNAME:CEST
DTSTART:20260329T010000
END:DAYLIGHT
BEGIN:STANDARD
TZOFFSETFROM:+0200
TZOFFSETTO:+0100
TZNAME:CET
DTSTART:20261025T010000
END:STANDARD
BEGIN:DAYLIGHT
TZOFFSETFROM:+0100
TZOFFSETTO:+0200
TZNAME:CEST
DTSTART:20270328T010000
END:DAYLIGHT
BEGIN:STANDARD
TZOFFSETFROM:+0200
TZOFFSETTO:+0100
TZNAME:CET
DTSTART:20271031T010000
END:STANDARD
END:VTIMEZONE
BEGIN:VEVENT
DTSTART;VALUE=DATE:20260821
DTEND;VALUE=DATE:20260822
DTSTAMP:20260422T022558
CREATED:20251208T132024Z
LAST-MODIFIED:20251211T202554Z
UID:7706-1787270400-1787356799@www.rclausanne.com
SUMMARY:Vallée de Joux
DESCRIPTION:sortie d’une journée à la Vallée de Joux\, spécialement destinée aux nouveaux rameurs.\nMais nous prendrons aussi des bateaux fins pour les rameurs plus expérimentés.\nSortie de 17km et pic nic au retour sur la plage de l’Abbaye\nInscriptions jusqu’au 15 août \n 
URL:https://www.rclausanne.com/evenement/vallee-de-joux-2/
CATEGORIES:Loisirs
ATTACH;FMTTYPE=image/jpeg:https://www.rclausanne.com/wp-content/uploads/2024/12/Vallee_de_joux.jpg
END:VEVENT
END:VCALENDAR