BEGIN:VCALENDAR
VERSION:2.0
PRODID:-//Rowing Club Lausanne - ECPv6.15.20//NONSGML v1.0//EN
CALSCALE:GREGORIAN
METHOD:PUBLISH
X-ORIGINAL-URL:https://www.rclausanne.com
X-WR-CALDESC:Évènements pour Rowing Club Lausanne
REFRESH-INTERVAL;VALUE=DURATION:PT1H
X-Robots-Tag:noindex
X-PUBLISHED-TTL:PT1H
BEGIN:VTIMEZONE
TZID:Europe/Zurich
BEGIN:DAYLIGHT
TZOFFSETFROM:+0100
TZOFFSETTO:+0200
TZNAME:CEST
DTSTART:20250330T010000
END:DAYLIGHT
BEGIN:STANDARD
TZOFFSETFROM:+0200
TZOFFSETTO:+0100
TZNAME:CET
DTSTART:20251026T010000
END:STANDARD
BEGIN:DAYLIGHT
TZOFFSETFROM:+0100
TZOFFSETTO:+0200
TZNAME:CEST
DTSTART:20260329T010000
END:DAYLIGHT
BEGIN:STANDARD
TZOFFSETFROM:+0200
TZOFFSETTO:+0100
TZNAME:CET
DTSTART:20261025T010000
END:STANDARD
BEGIN:DAYLIGHT
TZOFFSETFROM:+0100
TZOFFSETTO:+0200
TZNAME:CEST
DTSTART:20270328T010000
END:DAYLIGHT
BEGIN:STANDARD
TZOFFSETFROM:+0200
TZOFFSETTO:+0100
TZNAME:CET
DTSTART:20271031T010000
END:STANDARD
END:VTIMEZONE
BEGIN:VEVENT
DTSTART;VALUE=DATE:20260523
DTEND;VALUE=DATE:20260526
DTSTAMP:20260421T201518
CREATED:20251208T131639Z
LAST-MODIFIED:20251211T204118Z
UID:7699-1779494400-1779753599@www.rclausanne.com
SUMMARY:Lac de Vouglans
DESCRIPTION:Lac de Vouglans ( Jura français)\nSéjour en chambre doubles au centre national français d’aviron de Bellecin et navigation sur le lac de barrage de Vouglans.\nNous transporterons nos propres bateaux.\nInscriptions jusqu’au 15 mars
URL:https://www.rclausanne.com/evenement/lac-de-vouglans/
CATEGORIES:Loisirs
ATTACH;FMTTYPE=image/jpeg:https://www.rclausanne.com/wp-content/uploads/2025/12/vouglans.jpg
END:VEVENT
END:VCALENDAR