BEGIN:VCALENDAR
VERSION:2.0
PRODID:-//Rowing Club Lausanne - ECPv6.15.20//NONSGML v1.0//EN
CALSCALE:GREGORIAN
METHOD:PUBLISH
X-ORIGINAL-URL:https://www.rclausanne.com
X-WR-CALDESC:Évènements pour Rowing Club Lausanne
REFRESH-INTERVAL;VALUE=DURATION:PT1H
X-Robots-Tag:noindex
X-PUBLISHED-TTL:PT1H
BEGIN:VTIMEZONE
TZID:Europe/Zurich
BEGIN:DAYLIGHT
TZOFFSETFROM:+0100
TZOFFSETTO:+0200
TZNAME:CEST
DTSTART:20250330T010000
END:DAYLIGHT
BEGIN:STANDARD
TZOFFSETFROM:+0200
TZOFFSETTO:+0100
TZNAME:CET
DTSTART:20251026T010000
END:STANDARD
BEGIN:DAYLIGHT
TZOFFSETFROM:+0100
TZOFFSETTO:+0200
TZNAME:CEST
DTSTART:20260329T010000
END:DAYLIGHT
BEGIN:STANDARD
TZOFFSETFROM:+0200
TZOFFSETTO:+0100
TZNAME:CET
DTSTART:20261025T010000
END:STANDARD
BEGIN:DAYLIGHT
TZOFFSETFROM:+0100
TZOFFSETTO:+0200
TZNAME:CEST
DTSTART:20270328T010000
END:DAYLIGHT
BEGIN:STANDARD
TZOFFSETFROM:+0200
TZOFFSETTO:+0100
TZNAME:CET
DTSTART:20271031T010000
END:STANDARD
END:VTIMEZONE
BEGIN:VEVENT
DTSTART;VALUE=DATE:20260515
DTEND;VALUE=DATE:20260518
DTSTAMP:20260421T201503
CREATED:20251208T131609Z
LAST-MODIFIED:20260215T163712Z
UID:7698-1778803200-1779062399@www.rclausanne.com
SUMMARY:Visite du Club d'aviron de Strasbourg
DESCRIPTION:Invitation du club d’aviron de Strasbourg.\nUne quinzaine de nos amis français viendront en visite au RCL et rameront à partir du vendredi après-midi.\nSi vous pouvez héberger une ou deux personnes\, prière de le signaler au plus vite sur loisirs@rclausanne.com\nEn retour\, le RCL ira ramer à Strasbourg les 11-12 et 13 septembre et participera à la traversée de la ville en aviron réunissant de nombreux clubs français.\nInscriptions jusqu’au 20 avril. \nInscription
URL:https://www.rclausanne.com/evenement/visite-du-club-daviron-de-strasbourg/
CATEGORIES:Loisirs
END:VEVENT
END:VCALENDAR